BEGIN:VCALENDAR
VERSION:2.0
PRODID:-//CANT&#039;Elles - ECPv6.8.1//NONSGML v1.0//EN
CALSCALE:GREGORIAN
METHOD:PUBLISH
X-ORIGINAL-URL:https://cantelles.com
X-WR-CALDESC:Évènements pour CANT&#039;Elles
REFRESH-INTERVAL;VALUE=DURATION:PT1H
X-Robots-Tag:noindex
X-PUBLISHED-TTL:PT1H
BEGIN:VTIMEZONE
TZID:Europe/Paris
BEGIN:DAYLIGHT
TZOFFSETFROM:+0100
TZOFFSETTO:+0200
TZNAME:CEST
DTSTART:20250330T010000
END:DAYLIGHT
BEGIN:STANDARD
TZOFFSETFROM:+0200
TZOFFSETTO:+0100
TZNAME:CET
DTSTART:20251026T010000
END:STANDARD
END:VTIMEZONE
BEGIN:VEVENT
DTSTART;TZID=Europe/Paris:20250211T183000
DTEND;TZID=Europe/Paris:20250211T200000
DTSTAMP:20260421T144954
CREATED:20241118T150617Z
LAST-MODIFIED:20241118T150617Z
UID:5640-1739298600-1739304000@cantelles.com
SUMMARY:Info Pro
DESCRIPTION:Rendez-vous au Bureau Cant’Elles pour une info pro sur le Pitch\, animée par Fanny.\nL’occasion de voir ou revoir les points clefs pour réaliser une présentation courte et convaincante de votre activité. Alors venez et pitcher !\nRéservé aux adhérentes
URL:https://cantelles.com/evenement/info-pro-19/
LOCATION:Bureau CANT’Elles\, Bât. de l'Horloge - 8\, place de la Paix\, Aurillac\, 15000\, France
CATEGORIES:Info Pro
ATTACH;FMTTYPE=image/jpeg:https://cantelles.com/wp-content/uploads/2022/11/InfoProPaysage.jpg
END:VEVENT
END:VCALENDAR