BEGIN:VCALENDAR
VERSION:2.0
PRODID:-//CANT&#039;Elles - ECPv6.8.1//NONSGML v1.0//EN
CALSCALE:GREGORIAN
METHOD:PUBLISH
X-ORIGINAL-URL:https://cantelles.com
X-WR-CALDESC:Évènements pour CANT&#039;Elles
REFRESH-INTERVAL;VALUE=DURATION:PT1H
X-Robots-Tag:noindex
X-PUBLISHED-TTL:PT1H
BEGIN:VTIMEZONE
TZID:Europe/Paris
BEGIN:DAYLIGHT
TZOFFSETFROM:+0100
TZOFFSETTO:+0200
TZNAME:CEST
DTSTART:20250330T010000
END:DAYLIGHT
BEGIN:STANDARD
TZOFFSETFROM:+0200
TZOFFSETTO:+0100
TZNAME:CET
DTSTART:20251026T010000
END:STANDARD
END:VTIMEZONE
BEGIN:VEVENT
DTSTART;TZID=Europe/Paris:20250307T183000
DTEND;TZID=Europe/Paris:20250307T223000
DTSTAMP:20260421T160406
CREATED:20250218T131609Z
LAST-MODIFIED:20250303T110706Z
UID:5650-1741372200-1741386600@cantelles.com
SUMMARY:Soirée évènement
DESCRIPTION:Dans le cadre de la journée internationale de lutte pour le droit des femmes\, CANT’Elles se mobilise et vous propose une soirée spéciale le vendredi 7 mars 2025\, à partir de 18h30\, au Grand hôtel de bordeaux.\nNous vous invitons à une table ronde sur le thème « Maternité & Travail ». (échanges avec des professionnels et retour d’expériences).\nCANT’Elles animera également un jeu de sensibilisation et d’information sur le sujet.\nLa soirée se poursuivra autour d’un buffet dinatoire.\nL’entrée est de 20€ et vous donne accès à :\n* La table ronde\n* Un carton de bingo (lots à gagner)\n* Un verre de bienvenue (autre consommation en supplément)\n* Le buffet dinatoire \nTOUS LES BÉNÉFICES DES ENTRÉES SERONT REVERSÉS AU CIDFF.\nSoirée ouverte à toutes et tous ! Nous vous attendons nombreuses et nombreux.\nRèglement sur place par chèque ou espèces ou via le lien HelloAsso ci-dessous.\nInscription
URL:https://cantelles.com/evenement/soiree-evenement-2/
LOCATION:Grand Hôtel de Bordeaux\, 2 avenue de la République\, Aurillac\, 15000
CATEGORIES:Evènement Premium
ATTACH;FMTTYPE=image/png:https://cantelles.com/wp-content/uploads/2025/02/JDF2025-1.png
ORGANIZER;CN="CANT'Elles":MAILTO:contact@cantelles.com
END:VEVENT
END:VCALENDAR