BEGIN:VCALENDAR
VERSION:2.0
PRODID:-//CANT&#039;Elles - ECPv6.8.1//NONSGML v1.0//EN
CALSCALE:GREGORIAN
METHOD:PUBLISH
X-WR-CALNAME:CANT&#039;Elles
X-ORIGINAL-URL:https://cantelles.com
X-WR-CALDESC:Évènements pour CANT&#039;Elles
REFRESH-INTERVAL;VALUE=DURATION:PT1H
X-Robots-Tag:noindex
X-PUBLISHED-TTL:PT1H
BEGIN:VTIMEZONE
TZID:Europe/Paris
BEGIN:DAYLIGHT
TZOFFSETFROM:+0100
TZOFFSETTO:+0200
TZNAME:CEST
DTSTART:20250330T010000
END:DAYLIGHT
BEGIN:STANDARD
TZOFFSETFROM:+0200
TZOFFSETTO:+0100
TZNAME:CET
DTSTART:20251026T010000
END:STANDARD
END:VTIMEZONE
BEGIN:VEVENT
DTSTART;TZID=Europe/Paris:20250424T183000
DTEND;TZID=Europe/Paris:20250424T213000
DTSTAMP:20260421T213111
CREATED:20250218T134954Z
LAST-MODIFIED:20250403T121456Z
UID:5664-1745519400-1745530200@cantelles.com
SUMMARY:ApéRéso
DESCRIPTION:On se retrouve et on échange au Five Eleven ! Vous pouvez venir accompagnées\nEvènement ouvert à toutes et tous ! L’occasion de découvrir et rencontrer les adhérentes de notre association.
URL:https://cantelles.com/evenement/apereso-16/
LOCATION:Five Eleven\, 3 Rue du Consulat\, Aurillac\, 15000
CATEGORIES:ApéRéso
ATTACH;FMTTYPE=image/jpeg:https://cantelles.com/wp-content/uploads/2022/11/ApeResoPaysage.jpg
ORGANIZER;CN="CANT'Elles":MAILTO:contact@cantelles.com
END:VEVENT
END:VCALENDAR