BEGIN:VCALENDAR
VERSION:2.0
PRODID:-//CANT&#039;Elles - ECPv6.8.1//NONSGML v1.0//EN
CALSCALE:GREGORIAN
METHOD:PUBLISH
X-WR-CALNAME:CANT&#039;Elles
X-ORIGINAL-URL:https://cantelles.com
X-WR-CALDESC:Évènements pour CANT&#039;Elles
REFRESH-INTERVAL;VALUE=DURATION:PT1H
X-Robots-Tag:noindex
X-PUBLISHED-TTL:PT1H
BEGIN:VTIMEZONE
TZID:Europe/Paris
BEGIN:DAYLIGHT
TZOFFSETFROM:+0100
TZOFFSETTO:+0200
TZNAME:CEST
DTSTART:20250330T010000
END:DAYLIGHT
BEGIN:STANDARD
TZOFFSETFROM:+0200
TZOFFSETTO:+0100
TZNAME:CET
DTSTART:20251026T010000
END:STANDARD
END:VTIMEZONE
BEGIN:VEVENT
DTSTART;TZID=Europe/Paris:20251010T183000
DTEND;TZID=Europe/Paris:20251010T233000
DTSTAMP:20260425T231018
CREATED:20250710T073154Z
LAST-MODIFIED:20250710T073154Z
UID:5700-1760121000-1760139000@cantelles.com
SUMMARY:Assemblée Générale
DESCRIPTION:Fanny Nicolezeau\, Présidente\, et les membres du Conseil d’Administration ont le plaisir de vous convier à l’Assemblée Générale de CANT’Elles\, le Vendredi 10 octobre 2025 au Grand Hôtel de Bordeaux\, 2 avenue de la République\, 15000 Aurillac. \n\nCette Assemblée Générale sera l’occasion de revenir sur les actions menées cette année\, de présenter les perspectives à venir\, et de réaffirmer notre engagement en faveur de l’entrepreneuriat féminin dans le Cantal.\nÀ l’issue de cette assemblée\, nous aurons l’immense joie de célébrer ensemble les 10 ans de CANT’Elles : une décennie de projets\, de solidarité\, de réussite et d’audace au féminin.\nUn moment festif\, convivial et inspirant vous attend\, en présence de nos partenaires\, de représentants institutionnels et de nombreux acteurs engagés pour le dynamisme économique de notre territoire. \n Merci de bien vouloir confirmer votre présence avant le 1er Octobre 2025 via le lien suivant :\nInscription \n\n\nOrdre du Jour et Déroulé \n18h30 – Accueil et adhésion\n19h – Début de l’AG\nBilan des activités et bilan financier\nElection du tiers sortant du CA\nElection du Bureau\nDiscours de clôture \n19h30 – Soirée anniversaire pour les 10 ans de l’association\nApéritif dînatoire et Gâteau d’anniversaire
URL:https://cantelles.com/evenement/assemblee-generale-4/
LOCATION:Grand Hôtel de Bordeaux\, 2 avenue de la République\, Aurillac\, 15000
CATEGORIES:Evènement Premium
ATTACH;FMTTYPE=image/jpeg:https://cantelles.com/wp-content/uploads/2024/08/AGPaysage.jpg
ORGANIZER;CN="CANT'Elles":MAILTO:contact@cantelles.com
END:VEVENT
END:VCALENDAR