BEGIN:VCALENDAR
VERSION:2.0
PRODID:-//CANT&#039;Elles - ECPv6.8.1//NONSGML v1.0//EN
CALSCALE:GREGORIAN
METHOD:PUBLISH
X-ORIGINAL-URL:https://cantelles.com
X-WR-CALDESC:Évènements pour CANT&#039;Elles
REFRESH-INTERVAL;VALUE=DURATION:PT1H
X-Robots-Tag:noindex
X-PUBLISHED-TTL:PT1H
BEGIN:VTIMEZONE
TZID:Europe/Paris
BEGIN:DAYLIGHT
TZOFFSETFROM:+0100
TZOFFSETTO:+0200
TZNAME:CEST
DTSTART:20230326T010000
END:DAYLIGHT
BEGIN:STANDARD
TZOFFSETFROM:+0200
TZOFFSETTO:+0100
TZNAME:CET
DTSTART:20231029T010000
END:STANDARD
END:VTIMEZONE
BEGIN:VEVENT
DTSTART;TZID=Europe/Paris:20231003T183000
DTEND;TZID=Europe/Paris:20231003T223000
DTSTAMP:20260425T231129
CREATED:20230929T070627Z
LAST-MODIFIED:20230929T070627Z
UID:5154-1696357800-1696372200@cantelles.com
SUMMARY:Assemblée Générale
DESCRIPTION:CANT’Elles organise son Assemblée Générale à l’Espace Hélitas.\nA l’ordre du jour :\n*Accueil et adhésion\n*Bilan des activités et Bilan financier\n*Objectifs pour 2023-2024\n*Election du tiers sortant du CA suivi de l’élection du Bureau\n*Discours de clôture\n* Temps d’échanges et retours d’expériences\nNous terminerons par un moment convivial autour d’un apéritif dînatoire. \n 
URL:https://cantelles.com/evenement/assemblee-generale-2/
LOCATION:Espace Helitas\, 68 boulevard Louis Dauzier\, Aurillac
CATEGORIES:Evènement
ATTACH;FMTTYPE=image/jpeg:https://cantelles.com/wp-content/uploads/2023/09/PremiumPaysage2.jpg
ORGANIZER;CN="CANT'Elles":MAILTO:contact@cantelles.com
END:VEVENT
END:VCALENDAR