BEGIN:VCALENDAR
VERSION:2.0
PRODID:-//CANT&#039;Elles - ECPv6.8.1//NONSGML v1.0//EN
CALSCALE:GREGORIAN
METHOD:PUBLISH
X-WR-CALNAME:CANT&#039;Elles
X-ORIGINAL-URL:https://cantelles.com
X-WR-CALDESC:Évènements pour CANT&#039;Elles
REFRESH-INTERVAL;VALUE=DURATION:PT1H
X-Robots-Tag:noindex
X-PUBLISHED-TTL:PT1H
BEGIN:VTIMEZONE
TZID:Europe/Paris
BEGIN:DAYLIGHT
TZOFFSETFROM:+0100
TZOFFSETTO:+0200
TZNAME:CEST
DTSTART:20160327T010000
END:DAYLIGHT
BEGIN:STANDARD
TZOFFSETFROM:+0200
TZOFFSETTO:+0100
TZNAME:CET
DTSTART:20161030T010000
END:STANDARD
BEGIN:DAYLIGHT
TZOFFSETFROM:+0100
TZOFFSETTO:+0200
TZNAME:CEST
DTSTART:20170326T010000
END:DAYLIGHT
BEGIN:STANDARD
TZOFFSETFROM:+0200
TZOFFSETTO:+0100
TZNAME:CET
DTSTART:20171029T010000
END:STANDARD
END:VTIMEZONE
BEGIN:VEVENT
DTSTART;TZID=Europe/Paris:20170707T193000
DTEND;TZID=Europe/Paris:20170707T223000
DTSTAMP:20260425T040814
CREATED:20170703T063658Z
LAST-MODIFIED:20221109T211941Z
UID:2868-1499455800-1499466600@cantelles.com
SUMMARY:Before Holiday's
DESCRIPTION:Apéro non officiel pour bien démarrer la période estivale et garder le lien pendant les vacances.\nRdv place Erignac au café de ma mère pour un moment OFF
URL:https://cantelles.com/evenement/before-holidays/
LOCATION:Café de ma mère\, place Erignac\, aurillac\, 15000
CATEGORIES:Evènement
ATTACH;FMTTYPE=image/jpeg:https://cantelles.com/wp-content/uploads/2017/07/jerry-kiesewetter-192478.jpg
END:VEVENT
BEGIN:VEVENT
DTSTART;TZID=Europe/Paris:20170525T100000
DTEND;TZID=Europe/Paris:20170525T170000
DTSTAMP:20260425T040814
CREATED:20170503T065518Z
LAST-MODIFIED:20221109T144517Z
UID:2839-1495706400-1495731600@cantelles.com
SUMMARY:Journée Famille : pique-nique & yourtes
DESCRIPTION:Journée famille et partage : moment de convivialité\, autour de petits plats concoctés par nos soins\, au cœur de la forêt qui héberge les yourtes de Sandrine\, notre adhérente.
URL:https://cantelles.com/evenement/journee-famille-pique-nique-yourtes/
LOCATION:Yourtes Cantal\, Lacamp\, Vitrac\, 15220\, France
CATEGORIES:Evènement
ATTACH;FMTTYPE=image/jpeg:https://cantelles.com/wp-content/uploads/2017/05/contemporaine-salon.jpg
END:VEVENT
BEGIN:VEVENT
DTSTART;TZID=Europe/Paris:20170317T190000
DTEND;TZID=Europe/Paris:20170317T213000
DTSTAMP:20260425T040814
CREATED:20170227T165300Z
LAST-MODIFIED:20221109T144439Z
UID:2804-1489777200-1489786200@cantelles.com
SUMMARY:Journée Internationale des Droits des Femmes
DESCRIPTION:Dans le cadre de la Journée Internationale des Droits des Femmes\, l’Association Cant’Elles organise\, sous l’égide de la Préfecture du Cantal\, une journée de mise à l’honneur des Femmes du Monde Economique du Cantal\, le 17 mars 2017. \nAinsi seront remis à cette occasion à partir de 19h00 dans les salons de l’hôtel préfectoral les : Premiers Trophées Cant’Elles des Femmes de l’Economie. \nIls seront attribués par l’association et remis conjointement Mme Le Prefet\, Isabelle SIMA et La présidente de Cant’Elles\, Marie CARRAUD. \nLa cérémonie sera suivi d’un moment de convivialité.\nConfirmation de votre présence par mail : contact@cantelles.com
URL:https://cantelles.com/evenement/journee-internationale-droits-femmes/
LOCATION:Préfecture Du Cantal\, 2 cours Monthyon\, Aurillac\, France\, 15000
CATEGORIES:Evènement
ATTACH;FMTTYPE=image/jpeg:https://cantelles.com/wp-content/uploads/2017/02/utomo-hendra-saputra-14137.jpg
END:VEVENT
BEGIN:VEVENT
DTSTART;TZID=Europe/Paris:20170124T193000
DTEND;TZID=Europe/Paris:20170124T213000
DTSTAMP:20260425T040814
CREATED:20161220T134717Z
LAST-MODIFIED:20221109T144344Z
UID:2745-1485286200-1485293400@cantelles.com
SUMMARY:Voeux 2017
DESCRIPTION:Démarrez l’année en participant à nos vœux.\nProfitez-en pour convier une éventuelle adhérente\, un client à qui vous voulez présenter l’association\, un prospect.\nC’est le moment de l’année pour resserrer les liens.\nPrévenez-nous de votre présence et du nombre de personnes qui vous accompagneront en vous inscrivant via le lien weezevent.
URL:https://cantelles.com/evenement/voeux-2017/
LOCATION:Centre Social\, 24 Avenue du Général Leclerc\, Arpajon sur Cère\, 15130\, France
CATEGORIES:Evènement
ATTACH;FMTTYPE=image/jpeg:https://cantelles.com/wp-content/uploads/2016/12/paykyb-8er8-ian-schneider.jpg
END:VEVENT
BEGIN:VEVENT
DTSTART;TZID=Europe/Paris:20170104T193000
DTEND;TZID=Europe/Paris:20170104T203000
DTSTAMP:20260425T040814
CREATED:20161220T141833Z
LAST-MODIFIED:20221109T144314Z
UID:2750-1483558200-1483561800@cantelles.com
SUMMARY:Cérémonie des Voeux - Ville
DESCRIPTION:Cette année Cant’Elles sera mise à l’honneur lors de la cérémonie des vœux aux citoyens de la Ville d’Aurillac.
URL:https://cantelles.com/evenement/ceremonie-voeux-ville/
LOCATION:Halle de Lescudilliers\, 5 rue Denis Papin\, Aurillac\, 15000\, France
CATEGORIES:Evènement
ATTACH;FMTTYPE=image/jpeg:https://cantelles.com/wp-content/uploads/2016/12/15625927_1244381225628454_843101103809413962_o.jpg
END:VEVENT
BEGIN:VEVENT
DTSTART;TZID=Europe/Paris:20161217T090000
DTEND;TZID=Europe/Paris:20161217T190000
DTSTAMP:20260425T040814
CREATED:20161201T092122Z
LAST-MODIFIED:20221109T144306Z
UID:2737-1481965200-1482001200@cantelles.com
SUMMARY:DISCO'SOUPE solidaire !
DESCRIPTION:Pour une disco’soupe réussie\, il faut : \n\nune équipe d’éplucheurs VOLONTAIRES !\ndes maraichers sympas qui ne jettent pas leurs INVENDUS !\nun évènement convivial OUVERT à tous + un repas gratuit ou à prix libre !\nune ambiance MUSICALE pour un moment chaleureux !\n\nPour Cant’Elles\, c’est le 17/12\, au coeur du marché de Noël d’Aurillac.\nNotez la date ! Les autres infos arrivent !
URL:https://cantelles.com/evenement/discosoupe-solidaire/
LOCATION:Marché couvert\, Place du Square\, Aurillac
CATEGORIES:Evènement
ATTACH;FMTTYPE=image/jpeg:https://cantelles.com/wp-content/uploads/2016/12/2016.12.17.jpg
END:VEVENT
BEGIN:VEVENT
DTSTART;TZID=Europe/Paris:20161009T093000
DTEND;TZID=Europe/Paris:20161009T110000
DTSTAMP:20260425T040814
CREATED:20160830T135450Z
LAST-MODIFIED:20221109T143556Z
UID:2660-1476005400-1476010800@cantelles.com
SUMMARY:Délégation Cant'Elles : Aurillac pour Elles
DESCRIPTION:Aurillac pour Elles :\nDans le cadre de l’opération octobre rose\, mois de prévention et d’information du cancer du sein\, se court (ou se marche) « Aurillac pour Elles ». Une délégation Cant’Elles sera organisée.
URL:https://cantelles.com/evenement/delegation-cantelles-aurillac/
LOCATION:La Ponétie\, Aurillac
CATEGORIES:Evènement
ATTACH;FMTTYPE=image/png:https://cantelles.com/wp-content/uploads/2016/08/octobrerose.png
END:VEVENT
BEGIN:VEVENT
DTSTART;TZID=Europe/Paris:20160520T190000
DTEND;TZID=Europe/Paris:20160520T230000
DTSTAMP:20260425T040814
CREATED:20160511T105316Z
LAST-MODIFIED:20221109T143057Z
UID:2316-1463770800-1463785200@cantelles.com
SUMMARY:Café-concert Hélitas Adèle Coyo
DESCRIPTION:Actu de nos membres : Adèle Coyo\, membre de Cant’Elles et talentueuse auteur-compositeur-interprète participe au Café-concert du 20 mai prochain au Parc Hélitas. Infos & Résa : 04.71.62.70.05 \n  \n 
URL:https://cantelles.com/evenement/cafe-concert-helitas-adele-coyo/
LOCATION:Espace Helitas\, 68 boulevard Louis Dauzier\, Aurillac
CATEGORIES:Evènement
ATTACH;FMTTYPE=image/jpeg:https://cantelles.com/wp-content/uploads/2016/05/adele.jpg
END:VEVENT
BEGIN:VEVENT
DTSTART;TZID=Europe/Paris:20160412T180000
DTEND;TZID=Europe/Paris:20160412T230000
DTSTAMP:20260425T040814
CREATED:20160317T105401Z
LAST-MODIFIED:20221109T142846Z
UID:2260-1460484000-1460502000@cantelles.com
SUMMARY:Rencontre backstage avec Rosmary Standley
DESCRIPTION:Rencontre : Alors qu’elle vient à Aurillac autour de son projet « Love I Obey »\, Rosmary Standley réservera un temps backstage avant son concert pour échanger avec un petit groupe de femmes de Cant’Elles.\nElle abordera son parcours\, sa place de femme dans son travail artistique\, son regard sur le monde. \n_____________________________________________________________ \n\nInscription par mel exclusivement auprès de la Présidente.\nÉvénement réservé aux membres de Cant’Elles.\n\n\n\n______________________________________________________________\nQui est Rosmary : chanteuse folk franco-américaine elle est la voix du groupe Moriarty
URL:https://cantelles.com/evenement/2260/
LOCATION:Théâtre d’Aurillac\, 4 rue de la Coste\, Aurillac\, 15000\, France
CATEGORIES:Evènement
ATTACH;FMTTYPE=image/jpeg:https://cantelles.com/wp-content/uploads/2016/03/Rosemary_12-04-2016.jpg
END:VEVENT
BEGIN:VEVENT
DTSTART;TZID=Europe/Paris:20160312T103000
DTEND;TZID=Europe/Paris:20160312T113000
DTSTAMP:20260425T040814
CREATED:20150211T084215Z
LAST-MODIFIED:20221109T142712Z
UID:2047-1457778600-1457782200@cantelles.com
SUMMARY:Café fleuri
DESCRIPTION:Dans le cadre de la journée internationale du droit des femmes qui aura lieu le samedi 19 mars \, nous vous proposons de nous retrouver à la terrasse d’un café du centre ville place de l’hôtel de ville\, lieu à confirmer\, chacune munie d’une fleur que nous offrirons à une femme\, commerçante ou passante afin de rendre hommages aux femmes. \nL’événement sera peut être soutenu par Adecco.
URL:https://cantelles.com/evenement/cafe-fleuri/
LOCATION:Place de l’Hotel de Ville\, Place de l'Hotel de Ville\, Aurillac\, 15000\, France
CATEGORIES:Evènement
ATTACH;FMTTYPE=image/jpeg:https://cantelles.com/wp-content/uploads/2015/02/cafe-fleuri.jpg
END:VEVENT
END:VCALENDAR