BEGIN:VCALENDAR
VERSION:2.0
PRODID:-//CANT&#039;Elles - ECPv6.8.1//NONSGML v1.0//EN
CALSCALE:GREGORIAN
METHOD:PUBLISH
X-ORIGINAL-URL:https://cantelles.com
X-WR-CALDESC:Évènements pour CANT&#039;Elles
REFRESH-INTERVAL;VALUE=DURATION:PT1H
X-Robots-Tag:noindex
X-PUBLISHED-TTL:PT1H
BEGIN:VTIMEZONE
TZID:Europe/Paris
BEGIN:DAYLIGHT
TZOFFSETFROM:+0100
TZOFFSETTO:+0200
TZNAME:CEST
DTSTART:20230326T010000
END:DAYLIGHT
BEGIN:STANDARD
TZOFFSETFROM:+0200
TZOFFSETTO:+0100
TZNAME:CET
DTSTART:20231029T010000
END:STANDARD
END:VTIMEZONE
BEGIN:VEVENT
DTSTART;TZID=Europe/Paris:20230609T183000
DTEND;TZID=Europe/Paris:20230609T203000
DTSTAMP:20260425T053549
CREATED:20230530T080329Z
LAST-MODIFIED:20230530T080704Z
UID:5091-1686335400-1686342600@cantelles.com
SUMMARY:Visite Entreprise
DESCRIPTION:Le Vrac de Linaë\nVenez découvrir le Vrac de Linaë\, et discuter\, partager l’expérience d’Aurore.
URL:https://cantelles.com/evenement/visite-entreprise/
LOCATION:Le Vrac de Linaë\, 76 avenue du Général Leclerc\, Aurillac\, 15000
CATEGORIES:Visite
ATTACH;FMTTYPE=image/jpeg:https://cantelles.com/wp-content/uploads/2022/11/VisitePaysage.jpg
ORGANIZER;CN="CANT'Elles":MAILTO:contact@cantelles.com
END:VEVENT
END:VCALENDAR